BEGIN:VCALENDAR
VERSION:2.0
PRODID:-//Institut Paoli-Calmettes - ECPv6.10.2//NONSGML v1.0//EN
CALSCALE:GREGORIAN
METHOD:PUBLISH
X-WR-CALNAME:Institut Paoli-Calmettes
X-ORIGINAL-URL:https://www.institutpaolicalmettes.fr
X-WR-CALDESC:Évènements pour Institut Paoli-Calmettes
REFRESH-INTERVAL;VALUE=DURATION:PT1H
X-Robots-Tag:noindex
X-PUBLISHED-TTL:PT1H
BEGIN:VTIMEZONE
TZID:Europe/Paris
BEGIN:DAYLIGHT
TZOFFSETFROM:+0100
TZOFFSETTO:+0200
TZNAME:CEST
DTSTART:20260329T010000
END:DAYLIGHT
BEGIN:STANDARD
TZOFFSETFROM:+0200
TZOFFSETTO:+0100
TZNAME:CET
DTSTART:20261025T010000
END:STANDARD
END:VTIMEZONE
BEGIN:VEVENT
DTSTART;VALUE=DATE:20260910
DTEND;VALUE=DATE:20260910
DTSTAMP:20260423T125817
CREATED:20251208T094650Z
LAST-MODIFIED:20251208T094654Z
UID:76375-1788998400-1789084799@www.institutpaolicalmettes.fr
SUMMARY:IMPLICATION DES NOUVELLES DONNEES POUR LA PRATIQUE CLINIQUE DU TRAITEMENT DES CANCERS DU SEIN
DESCRIPTION:
URL:https://www.institutpaolicalmettes.fr/offre-de-formation/implication-des-nouvelles-donnees-pour-la-pratique-clinique-du-traitement-des-cancers-du-sein-2/
LOCATION:IPC\, Institut Paoli-Calmettes Département Enseignement-Formation 232 Boulevard de Sainte Marguerite\, Marseille\, Bouches du Rhône\, 13009\, France
END:VEVENT
BEGIN:VEVENT
DTSTART;VALUE=DATE:20260922
DTEND;VALUE=DATE:20260922
DTSTAMP:20260423T125817
CREATED:20260122T133408Z
LAST-MODIFIED:20260122T133412Z
UID:76574-1790035200-1790121599@www.institutpaolicalmettes.fr
SUMMARY:IMMUNODEPRESSION ET NEUTROPENIE
DESCRIPTION:
URL:https://www.institutpaolicalmettes.fr/offre-de-formation/immunodepression-et-neutropenie-22/
LOCATION:IPC\, Institut Paoli-Calmettes Département Enseignement-Formation 232 Boulevard de Sainte Marguerite\, Marseille\, Bouches du Rhône\, 13009\, France
END:VEVENT
BEGIN:VEVENT
DTSTART;VALUE=DATE:20260929
DTEND;VALUE=DATE:20260929
DTSTAMP:20260423T125817
CREATED:20260122T131756Z
LAST-MODIFIED:20260122T131801Z
UID:76560-1790640000-1790726399@www.institutpaolicalmettes.fr
SUMMARY:SOINS INFIRMIERS ET THERAPIES ANTICANCEREUSES MEDICAMENTEUSES
DESCRIPTION:
URL:https://www.institutpaolicalmettes.fr/offre-de-formation/soins-infirmiers-et-therapies-anticancereuses-medicamenteuses-13/
LOCATION:IPC\, Institut Paoli-Calmettes Département Enseignement-Formation 232 Boulevard de Sainte Marguerite\, Marseille\, Bouches du Rhône\, 13009\, France
END:VEVENT
END:VCALENDAR