BEGIN:VCALENDAR
VERSION:2.0
PRODID:-//Institut Paoli-Calmettes - ECPv6.10.2//NONSGML v1.0//EN
CALSCALE:GREGORIAN
METHOD:PUBLISH
X-ORIGINAL-URL:https://www.institutpaolicalmettes.fr
X-WR-CALDESC:Évènements pour Institut Paoli-Calmettes
REFRESH-INTERVAL;VALUE=DURATION:PT1H
X-Robots-Tag:noindex
X-PUBLISHED-TTL:PT1H
BEGIN:VTIMEZONE
TZID:Europe/Paris
BEGIN:DAYLIGHT
TZOFFSETFROM:+0100
TZOFFSETTO:+0200
TZNAME:CEST
DTSTART:20260329T010000
END:DAYLIGHT
BEGIN:STANDARD
TZOFFSETFROM:+0200
TZOFFSETTO:+0100
TZNAME:CET
DTSTART:20261025T010000
END:STANDARD
END:VTIMEZONE
BEGIN:VEVENT
DTSTART;VALUE=DATE:20260604
DTEND;VALUE=DATE:20260604
DTSTAMP:20260423T083912
CREATED:20260122T133730Z
LAST-MODIFIED:20260122T133734Z
UID:76578-1780531200-1780617599@www.institutpaolicalmettes.fr
SUMMARY:SOINS INFIRMIERS ET LEUCEMIES AIGUËS
DESCRIPTION:
URL:https://www.institutpaolicalmettes.fr/offre-de-formation/soins-infirmiers-et-leucemies-aigues-10/
LOCATION:IPC\, Institut Paoli-Calmettes Département Enseignement-Formation 232 Boulevard de Sainte Marguerite\, Marseille\, Bouches du Rhône\, 13009\, France
END:VEVENT
BEGIN:VEVENT
DTSTART;VALUE=DATE:20260605
DTEND;VALUE=DATE:20260605
DTSTAMP:20260423T083912
CREATED:20251208T094541Z
LAST-MODIFIED:20260109T085511Z
UID:76372-1780617600-1780703999@www.institutpaolicalmettes.fr
SUMMARY:18EME SYMPOSIUM D'ENDOSCOPIE - PRISE EN CHARGE DES CANCERS DU PANCREAS
DESCRIPTION:
URL:https://www.institutpaolicalmettes.fr/offre-de-formation/18eme-symposium-dendoscopie-prise-en-charge-des-cancers-du-pancreas/
LOCATION:IPC\, Institut Paoli-Calmettes Département Enseignement-Formation 232 Boulevard de Sainte Marguerite\, Marseille\, Bouches du Rhône\, 13009\, France
END:VEVENT
BEGIN:VEVENT
DTSTART;VALUE=DATE:20260618
DTEND;VALUE=DATE:20260619
DTSTAMP:20260423T083912
CREATED:20251208T094801Z
LAST-MODIFIED:20251208T094806Z
UID:76378-1781740800-1781913599@www.institutpaolicalmettes.fr
SUMMARY:JOURNEES CANCER DU RECTUM & TECHNIQUE CHIRURGICALE COLORECTALE
DESCRIPTION:
URL:https://www.institutpaolicalmettes.fr/offre-de-formation/journees-cancer-du-rectum-technique-chirurgicale-colorectale/
LOCATION:IPC\, Institut Paoli-Calmettes Département Enseignement-Formation 232 Boulevard de Sainte Marguerite\, Marseille\, Bouches du Rhône\, 13009\, France
END:VEVENT
BEGIN:VEVENT
DTSTART;VALUE=DATE:20260626
DTEND;VALUE=DATE:20260626
DTSTAMP:20260423T083912
CREATED:20251208T093851Z
LAST-MODIFIED:20251208T093856Z
UID:76368-1782432000-1782518399@www.institutpaolicalmettes.fr
SUMMARY:CANCER DE L'OVAIRE
DESCRIPTION:
URL:https://www.institutpaolicalmettes.fr/offre-de-formation/formation-cancer-ovaire/
LOCATION:IPC\, Institut Paoli-Calmettes Département Enseignement-Formation 232 Boulevard de Sainte Marguerite\, Marseille\, Bouches du Rhône\, 13009\, France
END:VEVENT
END:VCALENDAR