BEGIN:VCALENDAR
VERSION:2.0
PRODID:-//Institut Paoli-Calmettes - ECPv6.10.2//NONSGML v1.0//EN
CALSCALE:GREGORIAN
METHOD:PUBLISH
X-ORIGINAL-URL:https://www.institutpaolicalmettes.fr
X-WR-CALDESC:Évènements pour Institut Paoli-Calmettes
REFRESH-INTERVAL;VALUE=DURATION:PT1H
X-Robots-Tag:noindex
X-PUBLISHED-TTL:PT1H
BEGIN:VTIMEZONE
TZID:Europe/Paris
BEGIN:DAYLIGHT
TZOFFSETFROM:+0100
TZOFFSETTO:+0200
TZNAME:CEST
DTSTART:20260329T010000
END:DAYLIGHT
BEGIN:STANDARD
TZOFFSETFROM:+0200
TZOFFSETTO:+0100
TZNAME:CET
DTSTART:20261025T010000
END:STANDARD
END:VTIMEZONE
BEGIN:VEVENT
DTSTART;VALUE=DATE:20260505
DTEND;VALUE=DATE:20260505
DTSTAMP:20260423T063726
CREATED:20260122T131221Z
LAST-MODIFIED:20260122T131226Z
UID:76558-1777939200-1778025599@www.institutpaolicalmettes.fr
SUMMARY:SOINS INFIRMIERS ET THERAPIES ANTICANCEREUSES MEDICAMENTEUSES
DESCRIPTION:
URL:https://www.institutpaolicalmettes.fr/offre-de-formation/soins-infirmiers-et-therapies-anticancereuses-medicamenteuses-12/
LOCATION:IPC\, Institut Paoli-Calmettes Département Enseignement-Formation 232 Boulevard de Sainte Marguerite\, Marseille\, Bouches du Rhône\, 13009\, France
END:VEVENT
BEGIN:VEVENT
DTSTART;VALUE=DATE:20260521
DTEND;VALUE=DATE:20260521
DTSTAMP:20260423T063726
CREATED:20251208T092511Z
LAST-MODIFIED:20251208T092516Z
UID:76362-1779321600-1779407999@www.institutpaolicalmettes.fr
SUMMARY:NOUVEAUTES ET ACTUALITES DANS LA PRISE EN CHARGE DU CANCER DU SEIN
DESCRIPTION:
URL:https://www.institutpaolicalmettes.fr/offre-de-formation/nouveautes-prises-en-charge/
LOCATION:IPC\, Institut Paoli-Calmettes Département Enseignement-Formation 232 Boulevard de Sainte Marguerite\, Marseille\, Bouches du Rhône\, 13009\, France
END:VEVENT
BEGIN:VEVENT
DTSTART;VALUE=DATE:20260526
DTEND;VALUE=DATE:20260526
DTSTAMP:20260423T063726
CREATED:20260122T133253Z
LAST-MODIFIED:20260122T133256Z
UID:76572-1779753600-1779839999@www.institutpaolicalmettes.fr
SUMMARY:IMMUNODEPRESSION ET NEUTROPENIE
DESCRIPTION:
URL:https://www.institutpaolicalmettes.fr/offre-de-formation/immunodepression-et-neutropenie-21/
LOCATION:IPC\, Institut Paoli-Calmettes Département Enseignement-Formation 232 Boulevard de Sainte Marguerite\, Marseille\, Bouches du Rhône\, 13009\, France
END:VEVENT
END:VCALENDAR