BEGIN:VCALENDAR
VERSION:2.0
PRODID:-//Institut Paoli-Calmettes - ECPv6.10.2//NONSGML v1.0//EN
CALSCALE:GREGORIAN
METHOD:PUBLISH
X-ORIGINAL-URL:https://www.institutpaolicalmettes.fr
X-WR-CALDESC:Évènements pour Institut Paoli-Calmettes
REFRESH-INTERVAL;VALUE=DURATION:PT1H
X-Robots-Tag:noindex
X-PUBLISHED-TTL:PT1H
BEGIN:VTIMEZONE
TZID:Europe/Paris
BEGIN:DAYLIGHT
TZOFFSETFROM:+0100
TZOFFSETTO:+0200
TZNAME:CEST
DTSTART:20260329T010000
END:DAYLIGHT
BEGIN:STANDARD
TZOFFSETFROM:+0200
TZOFFSETTO:+0100
TZNAME:CET
DTSTART:20261025T010000
END:STANDARD
END:VTIMEZONE
BEGIN:VEVENT
DTSTART;VALUE=DATE:20260203
DTEND;VALUE=DATE:20260204
DTSTAMP:20260423T080914
CREATED:20260122T130648Z
LAST-MODIFIED:20260122T132737Z
UID:76552-1770080400-1770166799@www.institutpaolicalmettes.fr
SUMMARY:SOINS INFIRMIERS ET THERAPIES ANTICANCEREUSES MEDICAMENTEUSES
DESCRIPTION:
URL:https://www.institutpaolicalmettes.fr/offre-de-formation/soins-infirmiers-et-therapies-anticancereuses-medicamenteuses-11/
LOCATION:IPC\, Institut Paoli-Calmettes Département Enseignement-Formation 232 Boulevard de Sainte Marguerite\, Marseille\, Bouches du Rhône\, 13009\, France
END:VEVENT
BEGIN:VEVENT
DTSTART;VALUE=DATE:20260204
DTEND;VALUE=DATE:20260207
DTSTAMP:20260423T080914
CREATED:20241017T122646Z
LAST-MODIFIED:20250228T154404Z
UID:73885-1770166800-1770425999@www.institutpaolicalmettes.fr
SUMMARY:SEMINAIRE PRATIQUES MEDICALES ET INNOVATIONS DANS LE DOMAINE DES THERAPIES CELLULAIRES - 4 AU 6 FEVRIER 2026
DESCRIPTION:
URL:https://www.institutpaolicalmettes.fr/offre-de-formation/seminaire-pratiques-medicales-et-innovations-dans-le-domaine-des-therapies-cellulaires/
LOCATION:IPC\, Institut Paoli-Calmettes Département Enseignement-Formation 232 Boulevard de Sainte Marguerite\, Marseille\, Bouches du Rhône\, 13009\, France
END:VEVENT
BEGIN:VEVENT
DTSTART;VALUE=DATE:20260210
DTEND;VALUE=DATE:20260211
DTSTAMP:20260423T080914
CREATED:20260122T132945Z
LAST-MODIFIED:20260122T133209Z
UID:76566-1770685200-1770771599@www.institutpaolicalmettes.fr
SUMMARY:IMMUNODEPRESSION ET NEUTROPENIE
DESCRIPTION:
URL:https://www.institutpaolicalmettes.fr/offre-de-formation/immunodepression-et-neutropenie-20/
LOCATION:IPC\, Institut Paoli-Calmettes Département Enseignement-Formation 232 Boulevard de Sainte Marguerite\, Marseille\, Bouches du Rhône\, 13009\, France
END:VEVENT
END:VCALENDAR