BEGIN:VCALENDAR
VERSION:2.0
PRODID:-//Institut Paoli-Calmettes - ECPv6.10.2//NONSGML v1.0//EN
CALSCALE:GREGORIAN
METHOD:PUBLISH
X-ORIGINAL-URL:https://www.institutpaolicalmettes.fr
X-WR-CALDESC:Évènements pour Institut Paoli-Calmettes
REFRESH-INTERVAL;VALUE=DURATION:PT1H
X-Robots-Tag:noindex
X-PUBLISHED-TTL:PT1H
BEGIN:VTIMEZONE
TZID:Europe/Paris
BEGIN:DAYLIGHT
TZOFFSETFROM:+0100
TZOFFSETTO:+0200
TZNAME:CEST
DTSTART:20240331T010000
END:DAYLIGHT
BEGIN:STANDARD
TZOFFSETFROM:+0200
TZOFFSETTO:+0100
TZNAME:CET
DTSTART:20241027T010000
END:STANDARD
END:VTIMEZONE
BEGIN:VEVENT
DTSTART;VALUE=DATE:20240123
DTEND;VALUE=DATE:20240124
DTSTAMP:20260421T113043
CREATED:20231215T160316Z
LAST-MODIFIED:20240125T100825Z
UID:72165-1705971600-1706057999@www.institutpaolicalmettes.fr
SUMMARY:APPROCHE DE LA MEDECINE PALLIATIVE EN ONCO-HEMATOLOGIE
DESCRIPTION:INTERVENANTS \nInfirmières\, médecins\, chirurgiens et radiothérapeutes \n			\n			\n				\n				\n				\n				\n				\n				\n				\n				\n				\n				​PUBLIC CONCERNÉ \nEtre Infirmier et/ou Cadre de Santé impliqué dans la prise en charge des cancers. \n			\n			\n				\n				\n				\n				\n				\n				\n				\n				\n				\n				​FRAIS D’INSCRIPTION \n500 euros \nNombre de places limité  20 personnes \nLes personnes en situation de handicap souhaitant suivre cette formation sont invitées à nous contacter directement afin d’étudier ensemble les possibilités de suivre la formation. \n			\n			\n				\n				\n				\n				\n			\n				\n				\n				\n				\n				\n				\n				\n				\n				\n				\n				Objectifs pédagogiques\n\nFaire le point sur les pathologies et leurs traitements\,\n\n\nApprofondir les pratiques et les soins infirmiers liés à leur prise en charge.\n\nProgramme\n\nEpidémiologie et dépistage des cancers gynécologiques.\nTraitement chirurgical dans les cancers de l’endomètre\, du col utérin et de l’ovaire.\nLa radiothérapie dans les cancers de l’endomètre\, du col utérin et de l’ovaire\,\nTraitement médical dans les cancers de l’endomètre\, du col utérin et de l’ovaire\,\nLes soins infirmiers et la chirurgie abdo-pelvienne. \n\nMéthodes pédagogiques \n\nExposés théoriques\nEtudes de cas\nTemps de questions / réponses\n\nCalendrier\nSous réserve de l’évolution de la situation sanitaire \nDurée de la formation et organisation\n\nDurée : 6h30\nSalle équipée d’un PC\, écran interactif ou vidéoprojecteur et paper board\nEvaluation de satisfaction\nAttestation de fin de formation\n\nLieu de la formation :  \nInstitut Paoli-Calmettes \n			\n			\n				\n				\n				\n				\n			\n				\n				\n				\n				\n				\n				\n				\n				\n				\n				\n				Ouvrir le programme en PDF
URL:https://www.institutpaolicalmettes.fr/offre-de-formation/approche-de-la-medecine-palliative-en-onco-hematologie/
LOCATION:IPC\, Institut Paoli-Calmettes Département Enseignement-Formation 232 Boulevard de Sainte Marguerite\, Marseille\, Bouches du Rhône\, 13009\, France
CATEGORIES:Prise en charge et techniques spécifiques
END:VEVENT
END:VCALENDAR