BEGIN:VCALENDAR
VERSION:2.0
PRODID:-//Institut Paoli-Calmettes - ECPv6.10.2//NONSGML v1.0//EN
CALSCALE:GREGORIAN
METHOD:PUBLISH
X-WR-CALNAME:Institut Paoli-Calmettes
X-ORIGINAL-URL:https://www.institutpaolicalmettes.fr
X-WR-CALDESC:Évènements pour Institut Paoli-Calmettes
REFRESH-INTERVAL;VALUE=DURATION:PT1H
X-Robots-Tag:noindex
X-PUBLISHED-TTL:PT1H
BEGIN:VTIMEZONE
TZID:Europe/Paris
BEGIN:DAYLIGHT
TZOFFSETFROM:+0100
TZOFFSETTO:+0200
TZNAME:CEST
DTSTART:20230326T010000
END:DAYLIGHT
BEGIN:STANDARD
TZOFFSETFROM:+0200
TZOFFSETTO:+0100
TZNAME:CET
DTSTART:20231029T010000
END:STANDARD
END:VTIMEZONE
BEGIN:VEVENT
DTSTART;VALUE=DATE:20230613
DTEND;VALUE=DATE:20230613
DTSTAMP:20260421T232228
CREATED:20200218T140727Z
LAST-MODIFIED:20230102T132809Z
UID:51176-1686614400-1686700799@www.institutpaolicalmettes.fr
SUMMARY:PRISE EN CHARGE DES GREFFES ALLOGÉNIQUES
DESCRIPTION:INTERVENANTS \nInfirmière Principale\, médecins\, psychologue clinicienne \n			\n			\n				\n				\n				\n				\n				\n				\n				\n				\n				\n				​PUBLIC CONCERNÉ \nEtre Infirmier et/ou Cadre de Santé impliqué dans la prise en charge des cancers. \n			\n			\n				\n				\n				\n				\n				\n				\n				\n				\n				\n				​FRAIS D’INSCRIPTION \n500 euros \nNombre de places limité  20 personnes \nLes personnes en situation de handicap souhaitant suivre cette formation sont invitées à nous contacter directement afin d’étudier ensemble les possibilités de suivre la formation. \n			\n			\n				\n				\n				\n				\n			\n				\n				\n				\n				\n				\n				\n				\n				\n				\n				\n				INTERVENANTS \nInfirmière Principale\, médecins\, psychologue clinicienne \n			\n			\n				\n				\n				\n				\n				\n				\n				\n				\n				\n				​PUBLIC CONCERNÉ \nEtre Infirmier et/ou Cadre de Santé impliqué dans la prise en charge des cancers. \n			\n			\n				\n				\n				\n				\n				\n				\n				\n				\n				\n				​FRAIS D’INSCRIPTION \n500 euros \nNombre de places limité  20 personnes \nLes personnes en situation de handicap souhaitant suivre cette formation sont invitées à nous contacter directement afin d’étudier ensemble les possibilités de suivre la formation. \n			\n			\n				\n				\n				\n				\n			\n				\n				\n				\n				\n				\n				\n				\n				\n				\n				\n				Objectifs pédagogiqueS\n\n\nApprofondir les pratiques et les soins infirmiers liés à la prise en charge des patients allogreffés. \n\n\nProgramme\n\nLa greffe allogénique :\n\n– Historique\, indications\, chiffres\, évolution \n– Le prélèvement de moelle osseuse \n– La cytaphérèse\, \n– Le sang de cordon \n\nPrise en charge infirmière des patients allogreffés \n\n– Les modalités d’hospitalisation \n– Les axes de soins infirmiers (prise en charge des immunodéprimés) \n– L’éducation de sortie \n\nImpact psychologique de la thérapeutique :\n\n– Sur le receveur\, \n– Sur le donneur\, \n– Sur la dynamique familiale. \nMéthodes pédagogiques \n\nExposés théoriques\nEtudes de cas\nAnalyse de pratiques\nTemps de questions / réponses\n\nSous réserve de l’évolution de la situation sanitaire \nDurée de la formation et organisation\n\nDurée : 6H00\nSalle équipée d’un PC\, écran interactif ou vidéo projecteur et paper board\nEvaluation de satisfaction\nAttestation de fin de formation\n\nLieu de la formation :  \nInstitut Paoli-Calmettes \n			\n			\n				\n				\n				\n				\n			\n				\n				\n				\n				\n				\n				\n				\n				\n				\n				\n				Ouvrir le programme en PDF
URL:https://www.institutpaolicalmettes.fr/offre-de-formation/prise-en-charge-des-greffes-allogeniques/
LOCATION:Bouches du Rhône
CATEGORIES:Prise en charge et techniques spécifiques
END:VEVENT
END:VCALENDAR