BEGIN:VCALENDAR
VERSION:2.0
PRODID:-//Institut Paoli-Calmettes - ECPv6.10.2//NONSGML v1.0//EN
CALSCALE:GREGORIAN
METHOD:PUBLISH
X-ORIGINAL-URL:https://www.institutpaolicalmettes.fr
X-WR-CALDESC:Évènements pour Institut Paoli-Calmettes
REFRESH-INTERVAL;VALUE=DURATION:PT1H
X-Robots-Tag:noindex
X-PUBLISHED-TTL:PT1H
BEGIN:VTIMEZONE
TZID:Europe/Paris
BEGIN:DAYLIGHT
TZOFFSETFROM:+0100
TZOFFSETTO:+0200
TZNAME:CEST
DTSTART:20230326T010000
END:DAYLIGHT
BEGIN:STANDARD
TZOFFSETFROM:+0200
TZOFFSETTO:+0100
TZNAME:CET
DTSTART:20231029T010000
END:STANDARD
END:VTIMEZONE
BEGIN:VEVENT
DTSTART;VALUE=DATE:20230403
DTEND;VALUE=DATE:20230403
DTSTAMP:20260422T025617
CREATED:20200218T141753Z
LAST-MODIFIED:20221220T121621Z
UID:51193-1680480000-1680566399@www.institutpaolicalmettes.fr
SUMMARY:CICATRISATION DES PLAIES CHRONIQUES - (JOUR 3)
DESCRIPTION:INTERVENANTS \nInstitut de Soins Infirmiers Supérieurs \n			\n			\n				\n				\n				\n				\n				\n				\n				\n				\n				\n				​PUBLIC CONCERNÉ \nEtre Infirmier et/ou Cadre de Santé des services de chirurgie \n			\n			\n				\n				\n				\n				\n				\n				\n				\n				\n				\n				​FRAIS D’INSCRIPTION \n900 euros \nNombre de places limité  20 personnes \nLes personnes en situation de handicap souhaitant suivre cette formation sont invitées à nous contacter directement afin d’étudier ensemble les possibilités de suivre la formation. \n			\n			\n				\n				\n				\n				\n			\n				\n				\n				\n				\n				\n				\n				\n				\n				\n				\n				INTERVENANTS \nInstitut de Soins Infirmiers Supérieurs \n			\n			\n				\n				\n				\n				\n				\n				\n				\n				\n				\n				​PUBLIC CONCERNÉ \nEtre Infirmier et/ou Cadre de Santé des services de chirurgie \n			\n			\n				\n				\n				\n				\n				\n				\n				\n				\n				\n				​FRAIS D’INSCRIPTION \n900 euros \nNombre de places limité  20 personnes \nLes personnes en situation de handicap souhaitant suivre cette formation sont invitées à nous contacter directement afin d’étudier ensemble les possibilités de suivre la formation. \n			\n			\n				\n				\n				\n				\n			\n				\n				\n				\n				\n				\n				\n				\n				\n				\n				\n				Objectifs pédagogiques\n\nConnaître le cadre réglementaire des soins de plaies\nComprendre les principes de cicatrisation dans le cadre d’un processus normal\nIdentifier les différentes étapes de la cicatrisation\nMaîtriser la détersion des plaies\nPrévenir la douleur induite par les soins\nMettre en place la prévention des risques infectieux\nChoisir le pansement adéquat en fonction de la cicatrisation de la plaie\nEffectuer un bilan clinique pertinent\nActualiser ses connaissances sur les ulcères vasculaires\, les escarres\nDévelopper des compétences techniques sur les méthodes de contention et\ncompression veineuse\n\nProgramme\n\nLe cadre règlementaire\nLes principes de cicatrisation dans le cadre d’un processus normal\nLes différentes étapes de la cicatrisation\nLa détersion des plaies\nLa prévention des risques infectieux\nLes pansements de la cicatrisation\nLe bilan clinique : une démarche ordonnée et réflexive obligatoire\nPrise en charge de la douleur induite par les soins\nLes recommandations de l’HAS en matière de plaies et cicatrisation\nLes ulcères d’origine vasculaire\nLes mécanismes physiopathologique\, bilan de l’ulcère\, tableau clinique et diagnostic différentiel\, prise en charge thérapeutique\, cicatrisation après revascularisation…\nContention / compression sous forme d’ateliers\nLes escarres\n\nMéthodes pédagogiques \n\nExposés théoriques\nEtudes de cas\nAtelier\nTemps de questions / réponses\n\nCalendrier\nSous réserve de l’évolution de la situation sanitaire \nDurée de la formation et organisation\n\nDurée : 3 jours (21 heures)\nSalle équipée d’un PC\, écran interactif ou vidéo projecteur et paper board\nEvaluation de satisfaction\nAttestation de fin de formation\n\nLieu de la formation :  \nInstitut Paoli-Calmettes \n			\n			\n				\n				\n				\n				\n			\n				\n				\n				\n				\n				\n				\n				\n				\n				\n				\n				Ouvrir le programme en PDF
URL:https://www.institutpaolicalmettes.fr/offre-de-formation/cicatrisation-des-plaies-chroniques-4/
LOCATION:Bouches du Rhône
CATEGORIES:Prise en charge et techniques spécifiques
END:VEVENT
BEGIN:VEVENT
DTSTART;VALUE=DATE:20230404
DTEND;VALUE=DATE:20230404
DTSTAMP:20260422T025617
CREATED:20211020T135324Z
LAST-MODIFIED:20230102T151525Z
UID:66413-1680566400-1680652799@www.institutpaolicalmettes.fr
SUMMARY:IMMUNODÉPRESSION ET NEUTROPÉNIE
DESCRIPTION:INTERVENANTS \nInfirmière Principale\, médecin et diététicien \n			\n			\n				\n				\n				\n				\n				\n				\n				\n				\n				\n				​PUBLIC CONCERNÉ \nEtre Infirmier et/ou Cadre de Santé impliqué dans la prise en charge des cancers. \n			\n			\n				\n				\n				\n				\n				\n				\n				\n				\n				\n				​FRAIS D’INSCRIPTION \n500 euros \nNombre de places limité  20 personnes \nLes personnes en situation de handicap souhaitant suivre cette formation sont invitées à nous contacter directement afin d’étudier ensemble les possibilités de suivre la formation. \n			\n			\n				\n				\n				\n				\n			\n				\n				\n				\n				\n				\n				\n				\n				\n				\n				\n				INTERVENANTS \nInfirmière Principale\, médecin et diététicien \n			\n			\n				\n				\n				\n				\n				\n				\n				\n				\n				\n				​PUBLIC CONCERNÉ \nEtre Infirmier et/ou Cadre de Santé impliqué dans la prise en charge des cancers. \n			\n			\n				\n				\n				\n				\n				\n				\n				\n				\n				\n				​FRAIS D’INSCRIPTION \n500 euros \nNombre de places limité  20 personnes \nLes personnes en situation de handicap souhaitant suivre cette formation sont invitées à nous contacter directement afin d’étudier ensemble les possibilités de suivre la formation. \n			\n			\n				\n				\n				\n				\n			\n				\n				\n				\n				\n				\n				\n				\n				\n				\n				\n				Objectifs pédagogiques\n\nComprendre la physiopathologie et les différentes portes d’entrée infectieuse chez un patient en neutropénie fébrile\nRepérer les signes cliniques de la neutropénie fébrile\nMaîtriser les outils de prévention du risque infectieux (hygiène main\, précautions standards\, précautions complémentaires\, vaccinations\, protocoles de soins…)\nIdentifier les aliments à haut risque infectieux et les moyens de prévenir la dénutrition.\nConnaître le bénéfice/risque des abords veineux centraux\nAdapter sa pratique professionnelle à la gravité du patient\n\nProgramme\n\nImmunodépressions et neutropénie : prévention du risque infectieux\nPrise en charge médicale\nAccueil du patient « neutro fébrile » ou en « choc septique ».\nDiététique et immunodépression\,\n\nMéthodes pédagogiques \n\nExposés théoriques\nEtudes de cas\nAnalyse des pratiques\nTemps de questions / réponses\n\nSous réserve de l’évolution de la situation sanitaire \nDurée de la formation et organisation\n\nDurée : 7h00\nSalle équipée d’un PC\, écran interactif ou vidéo projecteur et paper board\nQuizz d’évaluation des connaissances\nEvaluation de satisfaction\nAttestation de fin de formation\n\nLieu de la formation :  \nInstitut Paoli-Calmettes \n			\n			\n				\n				\n				\n				\n			\n				\n				\n				\n				\n				\n				\n				\n				\n				\n				\n				Ouvrir le programme en PDF
URL:https://www.institutpaolicalmettes.fr/offre-de-formation/immunodepression-et-neutropenie-7/
LOCATION:Bouches du Rhône
CATEGORIES:Prise en charge et techniques spécifiques
END:VEVENT
BEGIN:VEVENT
DTSTART;VALUE=DATE:20230411
DTEND;VALUE=DATE:20230411
DTSTAMP:20260422T025617
CREATED:20200218T135848Z
LAST-MODIFIED:20230102T132148Z
UID:51157-1681171200-1681257599@www.institutpaolicalmettes.fr
SUMMARY:SOINS INFIRMIERS ET THÉRAPIES ANTICANCÉREUSES MÉDICAMENTEUSES
DESCRIPTION:INTERVENANTS \nMédecins\, Infirmière Principale \n			\n			\n				\n				\n				\n				\n				\n				\n				\n				\n				\n				​PUBLIC CONCERNÉ \nEtre Infirmier et/ou Cadre de Santé impliqué dans la prise en charge des cancers. \n			\n			\n				\n				\n				\n				\n				\n				\n				\n				\n				\n				​FRAIS D’INSCRIPTION \n500 euros \nNombre de places limité  20 personnes \nLes personnes en situation de handicap souhaitant suivre cette formation sont invitées à nous contacter directement afin d’étudier ensemble les possibilités de suivre la formation. \n			\n			\n				\n				\n				\n				\n			\n				\n				\n				\n				\n				\n				\n				\n				\n				\n				\n				INTERVENANTS \nMédecins\, Infirmière Principale \n			\n			\n				\n				\n				\n				\n				\n				\n				\n				\n				\n				​PUBLIC CONCERNÉ \nEtre Infirmier et/ou Cadre de Santé impliqué dans la prise en charge des cancers. \n			\n			\n				\n				\n				\n				\n				\n				\n				\n				\n				\n				​FRAIS D’INSCRIPTION \n500 euros \nNombre de places limité  20 personnes \nLes personnes en situation de handicap souhaitant suivre cette formation sont invitées à nous contacter directement afin d’étudier ensemble les possibilités de suivre la formation. \n			\n			\n				\n				\n				\n				\n			\n				\n				\n				\n				\n				\n				\n				\n				\n				\n				\n				Objectifs pédagogiques\n\nIdentifier les grands concepts à l’origine du développement des  thérapeutiques en oncologie.\nPositionner les thérapeutiques médicamenteuses dans le traitement anticancéreux.\nGérer l’administration des traitements.\nIdentifier et prévenir les effets  secondaires des traitements.\nSavoir décrire les bonnes pratiques d’utilisation des cytostatiques.\nConnaître les bases théoriques des traitements pour informer les patients\n\nProgramme\n\nPrincipes généraux : Définition\, classification des produits\, mécanisme d’action\, les divers protocoles\,\n\n\nL’évolution des traitements\,\n\n\nLes Soins Infirmiers en Chimiothérapie :\n\n Prescription médicale\,\nLes précautions centrées autour du patient\nLes différents abords veineux\,\nLa conduite à tenir en cas d’extravasation\,\nL’éducation du patient\,\nLe site implantable et la prévention du risque infectieux\nPrise en charge des effets secondaires\,\nManipulation des cytostatiques.\n\n\n\nMéthodes pédagogiques \n\nExposés théoriques\nEtudes de cas\nAnalyse de pratiques\nTemps de questions / réponses\n\nCalendrier\nSous réserve de l’évolution de la situation sanitaire \nDurée de la formation et organisation\n\nDurée : 7H00\nSalle équipée d’un PC\, écran interactif ou vidéo projecteur et paper board\nQuizz d’évaluation des connaissances\nEvaluation de satisfaction\nAttestation de fin de formation\n\nLieu de la formation :  \nInstitut Paoli-Calmettes \n			\n			\n				\n				\n				\n				\n			\n				\n				\n				\n				\n				\n				\n				\n				\n				\n				\n				Ouvrir le programme en PDF
URL:https://www.institutpaolicalmettes.fr/offre-de-formation/soins-infirmiers-et-chimiotherapie-anticancereuse-3/
LOCATION:Bouches du Rhône
CATEGORIES:Prise en charge et techniques spécifiques
END:VEVENT
END:VCALENDAR