BEGIN:VCALENDAR
VERSION:2.0
PRODID:-//Institut Paoli-Calmettes - ECPv6.10.2//NONSGML v1.0//EN
CALSCALE:GREGORIAN
METHOD:PUBLISH
X-ORIGINAL-URL:https://www.institutpaolicalmettes.fr
X-WR-CALDESC:Évènements pour Institut Paoli-Calmettes
REFRESH-INTERVAL;VALUE=DURATION:PT1H
X-Robots-Tag:noindex
X-PUBLISHED-TTL:PT1H
BEGIN:VTIMEZONE
TZID:Europe/Paris
BEGIN:DAYLIGHT
TZOFFSETFROM:+0100
TZOFFSETTO:+0200
TZNAME:CEST
DTSTART:20220327T010000
END:DAYLIGHT
BEGIN:STANDARD
TZOFFSETFROM:+0200
TZOFFSETTO:+0100
TZNAME:CET
DTSTART:20221030T010000
END:STANDARD
END:VTIMEZONE
BEGIN:VEVENT
DTSTART;VALUE=DATE:20220429
DTEND;VALUE=DATE:20220429
DTSTAMP:20260420T005327
CREATED:20200218T131758Z
LAST-MODIFIED:20220120T154625Z
UID:51121-1651190400-1651276799@www.institutpaolicalmettes.fr
SUMMARY:SÉMINAIRE « NOUVEAUTÉS DANS LE DOMAINE DES GREFFES ET DES THÉRAPIES CELLULAIRES »
DESCRIPTION:ORGANISATION SCIENTIFIQUE \nPr Christian ChabannonPr Didier Blaise \n			\n			\n				\n				\n				\n				\n				\n				\n				\n				\n				\n				​PUBLIC CONCERNÉ \nOncologues médicaux\, hématologues\, médecins internistes\, médecins généralistes intervenant dans des services d’hématologie… \n			\n			\n				\n				\n				\n				\n				\n				\n				\n				\n				\n				​FRAIS D’INSCRIPTION \nInscription gratuite mais obligatoire \nNombre de places limité \n			\n			\n				\n				\n				\n				\n			\n				\n				\n				\n				\n				\n				\n				\n				\n				\n				\n				ORGANISATION SCIENTIFIQUE \nPr Christian ChabannonPr Didier Blaise \n			\n			\n				\n				\n				\n				\n				\n				\n				\n				\n				\n				​PUBLIC CONCERNÉ \nOncologues médicaux\, hématologues\, médecins internistes\, médecins généralistes intervenant dans des services d’hématologie… \n			\n			\n				\n				\n				\n				\n				\n				\n				\n				\n				\n				​FRAIS D’INSCRIPTION \nInscription gratuite mais obligatoire \nNombre de places limité \n			\n			\n				\n				\n				\n				\n			\n				\n				\n				\n				\n				\n				\n				\n				\n				\n				\n				Objectifs\nFaire le point sur l’évolution des techniques et des indications dans le domaine des greffes de cellules hématopoïétiques utilisées en oncohématologie et en oncologie médicale. \nProgramme\nOutils et parcours de soins en autogreffes et allogreffes de cellules hématopoïétiques & thérapies cellulaires hématopoïétiques \nMéthodes pédagogiques \nCours en présentiel \nCalendrier\nLe 29 avril 2022 \nModalités d’organisation\nEvènement prévu en présentiel ou à distance sous réserve de l’évolution de la situation sanitaire. \nEvaluation de satisfaction. \n			\n			\n				\n				\n				\n				\n			\n				\n				\n				\n				\n				\n				\n				\n				\n				\n				\n				Ouvrir le programme en PDF
URL:https://www.institutpaolicalmettes.fr/offre-de-formation/seminaire-nouveautes-dans-le-domaine-des-greffes-et-des-therapies-cellulaires/
CATEGORIES:Formations par pathologie
END:VEVENT
END:VCALENDAR