BEGIN:VCALENDAR
VERSION:2.0
PRODID:-//Institut Paoli-Calmettes - ECPv6.10.2//NONSGML v1.0//EN
CALSCALE:GREGORIAN
METHOD:PUBLISH
X-ORIGINAL-URL:https://www.institutpaolicalmettes.fr
X-WR-CALDESC:Évènements pour Institut Paoli-Calmettes
REFRESH-INTERVAL;VALUE=DURATION:PT1H
X-Robots-Tag:noindex
X-PUBLISHED-TTL:PT1H
BEGIN:VTIMEZONE
TZID:Europe/Paris
BEGIN:DAYLIGHT
TZOFFSETFROM:+0100
TZOFFSETTO:+0200
TZNAME:CEST
DTSTART:20210328T010000
END:DAYLIGHT
BEGIN:STANDARD
TZOFFSETFROM:+0200
TZOFFSETTO:+0100
TZNAME:CET
DTSTART:20211031T010000
END:STANDARD
END:VTIMEZONE
BEGIN:VEVENT
DTSTART;VALUE=DATE:20211213
DTEND;VALUE=DATE:20211213
DTSTAMP:20260420T082043
CREATED:20200218T123507Z
LAST-MODIFIED:20201230T092116Z
UID:51104-1639357200-1639389600@www.institutpaolicalmettes.fr
SUMMARY:SOINS INFIRMIERS ET CANCER DU SEIN
DESCRIPTION:INTERVENANTS \nCadres de santé\, médecins et radiothérapeutes. \n​PRÉREQUIS / PUBLIC \nEtre Infirmier et/ou Cadre de santé et plus particulièrement des services de Chirurgie et d’Oncologie médicale.. \nOBJECTIFS \n\nRéactualiser les connaissances sur la pathologie et ses différents traitements.\nApprofondir les soins infirmiers qui leur sont liés.\n\n​FRAIS D’INSCRIPTION \n500 euros \nLimité à 20 personnes \nLIEU \nInstitut Paoli-Calmettes\nDépartement Enseignement-Formation\n232 Boulevard de Sainte Marguerite\n13009 – Marseille\nBouches-du-Rhône France \nTéléphone :+33 (0)4 91 22 33 59
URL:https://www.institutpaolicalmettes.fr/offre-de-formation/soins-infirmiers-et-cancer-du-sein-2/
CATEGORIES:Formations par pathologie
END:VEVENT
END:VCALENDAR